BEGIN:VCALENDAR
VERSION:2.0
PRODID:-//Nottingham / Nottinghamshire Carers Hub Service - ECPv6.15.20//NONSGML v1.0//EN
CALSCALE:GREGORIAN
METHOD:PUBLISH
X-WR-CALNAME:Nottingham / Nottinghamshire Carers Hub Service
X-ORIGINAL-URL:https://carershub.carersfederation.co.uk
X-WR-CALDESC:Events for Nottingham / Nottinghamshire Carers Hub Service
REFRESH-INTERVAL;VALUE=DURATION:PT1H
X-Robots-Tag:noindex
X-PUBLISHED-TTL:PT1H
BEGIN:VTIMEZONE
TZID:UTC
BEGIN:STANDARD
TZOFFSETFROM:+0000
TZOFFSETTO:+0000
TZNAME:UTC
DTSTART:20250101T000000
END:STANDARD
END:VTIMEZONE
BEGIN:VEVENT
DTSTART;TZID=UTC:20260415T130000
DTEND;TZID=UTC:20260415T150000
DTSTAMP:20260419T170141
CREATED:20260407T123703Z
LAST-MODIFIED:20260407T123703Z
UID:4550-1776258000-1776265200@carershub.carersfederation.co.uk
SUMMARY:SEND PaCT Notts - SEND Parents and Carers Together (Central)
DESCRIPTION:A safe and regular space for parents and carers. \nCome along and join others to share experiences of SEND\, schools\, EHCP’s and life generally. \nThe event will include refreshments and the opportunity to participate in craft activities whilst chatting with other parents and carers.
URL:https://carershub.carersfederation.co.uk/event/send-pact-notts-send-parents-and-carers-together-central/
LOCATION:Carers Federation\, Christopher Cargill House\, 21 - 23 Pelham Road\, Nottingham\, Nottingham\, NG5 1AP\, United Kingdom
CATEGORIES:Events Ran By Other Providers,Parent Carer Events
ATTACH;FMTTYPE=image/jpeg:https://carershub.carersfederation.co.uk/wp-content/uploads/2026/02/Arnold-2026-e1770816617346.jpg
ORGANIZER;CN="SEND Pact Notts CIC":MAILTO:admin@sendpactnotts.org
END:VEVENT
BEGIN:VEVENT
DTSTART;TZID=UTC:20260415T190000
DTEND;TZID=UTC:20260415T200000
DTSTAMP:20260419T170141
CREATED:20260407T124656Z
LAST-MODIFIED:20260407T124656Z
UID:4555-1776279600-1776283200@carershub.carersfederation.co.uk
SUMMARY:Carers Hub Parent Carer Evening Support Group
DESCRIPTION:Do you care for a loved one? Want to feel supported and empowered? \nCome along to our monthly carers support group to connect with other carers\, meet the Carers Hub Service team and gain information\, advice and guidance. \nThis group is online\, to book on please contact The Carers Hub on 0808 802 1777 or email carershubinfo@carersfederation.co.uk
URL:https://carershub.carersfederation.co.uk/event/carers-hub-parent-carer-evening-support-group/
LOCATION:On-line
CATEGORIES:Events Ran By Carers Hub Service,Parent Carer Events
ATTACH;FMTTYPE=image/png:https://carershub.carersfederation.co.uk/wp-content/uploads/2025/12/Carers-Hub-Support-Group-Logo-e1765983373800.png
END:VEVENT
END:VCALENDAR