BEGIN:VCALENDAR
VERSION:2.0
PRODID:-//Nottingham / Nottinghamshire Carers Hub Service - ECPv6.15.20//NONSGML v1.0//EN
CALSCALE:GREGORIAN
METHOD:PUBLISH
X-WR-CALNAME:Nottingham / Nottinghamshire Carers Hub Service
X-ORIGINAL-URL:https://carershub.carersfederation.co.uk
X-WR-CALDESC:Events for Nottingham / Nottinghamshire Carers Hub Service
REFRESH-INTERVAL;VALUE=DURATION:PT1H
X-Robots-Tag:noindex
X-PUBLISHED-TTL:PT1H
BEGIN:VTIMEZONE
TZID:UTC
BEGIN:STANDARD
TZOFFSETFROM:+0000
TZOFFSETTO:+0000
TZNAME:UTC
DTSTART:20250101T000000
END:STANDARD
END:VTIMEZONE
BEGIN:VEVENT
DTSTART;TZID=UTC:20260331T110000
DTEND;TZID=UTC:20260331T120000
DTSTAMP:20260419T165438
CREATED:20260225T150438Z
LAST-MODIFIED:20260225T150438Z
UID:4390-1774954800-1774958400@carershub.carersfederation.co.uk
SUMMARY:SEND PaCT Notts - Mug and a Moan
DESCRIPTION:SEND PaCT Notts are running a weekly online coffee morning for Parent and Carers. \nBring along a mug of your favourite brew and have a “moan” along with other parents and carers. \nIf you would like to join\, email admin@sendpactnotts.org
URL:https://carershub.carersfederation.co.uk/event/send-pact-notts-mug-and-a-moan-5/
LOCATION:On-line
CATEGORIES:Events Ran By Other Providers,Parent Carer Events
ATTACH;FMTTYPE=image/jpeg:https://carershub.carersfederation.co.uk/wp-content/uploads/2026/02/Mug-and-a-Moan-Tuesdays-e1772030205775.jpg
ORGANIZER;CN="SEND Pact Notts CIC":MAILTO:admin@sendpactnotts.org
END:VEVENT
BEGIN:VEVENT
DTSTART;TZID=UTC:20260331T130000
DTEND;TZID=UTC:20260331T140000
DTSTAMP:20260419T165438
CREATED:20260211T122343Z
LAST-MODIFIED:20260211T122343Z
UID:4282-1774962000-1774965600@carershub.carersfederation.co.uk
SUMMARY:Lunch and Learn With YGam
DESCRIPTION:As a parent\, carer or guardian you want to give your children the best start in life. While gaming and digital activities can bring positive opportunities for learning and connection\, they also carry evolving risks that can be hard to spot. \nYGam’s training helps you understand your child’s digital world and create a safer environment at home. \nYGam are hosting two online training sessions for Parents and Carers to book onto to all them to empowering themselves to be aware of the risks and understanding the children’s digital world\, creating a safer environment at home.
URL:https://carershub.carersfederation.co.uk/event/lunch-and-learn-with-ygam-2/
LOCATION:On-line
CATEGORIES:Events Ran By Other Providers,Parent Carer Events
ATTACH;FMTTYPE=image/jpeg:https://carershub.carersfederation.co.uk/wp-content/uploads/2026/02/Copy-of-Lunch-and-Learn-A5-flyer-2-e1770812463466.jpg
ORGANIZER;CN="YGam":MAILTO:training@ygam.org
END:VEVENT
END:VCALENDAR