BEGIN:VCALENDAR
VERSION:2.0
PRODID:-//Nottingham / Nottinghamshire Carers Hub Service - ECPv6.15.20//NONSGML v1.0//EN
CALSCALE:GREGORIAN
METHOD:PUBLISH
X-ORIGINAL-URL:https://carershub.carersfederation.co.uk
X-WR-CALDESC:Events for Nottingham / Nottinghamshire Carers Hub Service
REFRESH-INTERVAL;VALUE=DURATION:PT1H
X-Robots-Tag:noindex
X-PUBLISHED-TTL:PT1H
BEGIN:VTIMEZONE
TZID:UTC
BEGIN:STANDARD
TZOFFSETFROM:+0000
TZOFFSETTO:+0000
TZNAME:UTC
DTSTART:20250101T000000
END:STANDARD
END:VTIMEZONE
BEGIN:VEVENT
DTSTART;TZID=UTC:20260302T130000
DTEND;TZID=UTC:20260302T150000
DTSTAMP:20260419T170115
CREATED:20260225T134735Z
LAST-MODIFIED:20260225T134735Z
UID:4376-1772456400-1772463600@carershub.carersfederation.co.uk
SUMMARY:SEND PaCT Notts Digital Inclusion Workshop with Inspire
DESCRIPTION:SEND PaCT are running a Digital Inclusion Workshop alongside Inspire for parents and carers to find out more about what they can get involved in. \nVisit the SEND PaCT Facebook Group to find out more
URL:https://carershub.carersfederation.co.uk/event/send-pact-notts-digital-inclusion-workshop-with-inspire/
LOCATION:Killisick Family Hub\, Killisick Community Centre\, Killisick Road\, Arnold\, Nottinghamshire\, NG5 8BY
CATEGORIES:Events Ran By Other Providers,Parent Carer Events
ATTACH;FMTTYPE=image/jpeg:https://carershub.carersfederation.co.uk/wp-content/uploads/2026/02/Inspire-Digital-Inclusion-02.03-e1772026898305.jpg
ORGANIZER;CN="SEND Pact Notts CIC":MAILTO:admin@sendpactnotts.org
END:VEVENT
BEGIN:VEVENT
DTSTART;TZID=UTC:20260302T160000
DTEND;TZID=UTC:20260302T170000
DTSTAMP:20260419T170115
CREATED:20260225T130523Z
LAST-MODIFIED:20260225T130523Z
UID:4367-1772467200-1772470800@carershub.carersfederation.co.uk
SUMMARY:SEND PaCT Notts - SEND Parents and Carers Together (Bulwell)
DESCRIPTION:Are you a parent or carer? \nSEND PaCT Notts want to create a safe and regular space to allow parents and carers to share their experiences of SEND\, schools\, EHCPs and life in general. \nVisit the SEND PaCT Facebook Group to find out more
URL:https://carershub.carersfederation.co.uk/event/send-pact-notts-send-parents-and-carers-together-bulwell/
LOCATION:The Bulwell Academy\, Community Hub\, Squires Avenue\, Nottingham\, NG6 8HG
CATEGORIES:Events Ran By Other Providers,Parent Carer Events
ATTACH;FMTTYPE=image/jpeg:https://carershub.carersfederation.co.uk/wp-content/uploads/2026/02/Arnold-2026-e1770816617346.jpg
ORGANIZER;CN="SEND Pact Notts CIC":MAILTO:admin@sendpactnotts.org
END:VEVENT
BEGIN:VEVENT
DTSTART;TZID=UTC:20260303T110000
DTEND;TZID=UTC:20260303T120000
DTSTAMP:20260419T170115
CREATED:20260225T144057Z
LAST-MODIFIED:20260225T144107Z
UID:4380-1772535600-1772539200@carershub.carersfederation.co.uk
SUMMARY:SEND PaCT Notts - Mug and a Moan
DESCRIPTION:SEND PaCT Notts are running a weekly online coffee morning for Parent and Carers. \nBring along a mug of your favourite brew and have a “moan” along with other parents and carers. \nIf you would like to join\, email admin@sendpactnotts.org
URL:https://carershub.carersfederation.co.uk/event/send-pact-notts-mug-and-a-moan/
LOCATION:On-line
CATEGORIES:Events Ran By Other Providers,Parent Carer Events
ATTACH;FMTTYPE=image/jpeg:https://carershub.carersfederation.co.uk/wp-content/uploads/2026/02/Mug-and-a-Moan-Tuesdays-e1772030205775.jpg
ORGANIZER;CN="SEND Pact Notts CIC":MAILTO:admin@sendpactnotts.org
END:VEVENT
BEGIN:VEVENT
DTSTART;TZID=UTC:20260304T140000
DTEND;TZID=UTC:20260304T150000
DTSTAMP:20260419T170115
CREATED:20260225T130812Z
LAST-MODIFIED:20260225T130812Z
UID:4370-1772632800-1772636400@carershub.carersfederation.co.uk
SUMMARY:SEND PaCT Notts - SEND Parents and Carers Together (City)
DESCRIPTION:Are you a parent or carer? \nSEND PaCT Notts want to create a safe and regular space to allow parents and carers to share their experiences of SEND\, schools\, EHCPs and life in general. \nVisit the SEND PaCT Facebook Group to find out more
URL:https://carershub.carersfederation.co.uk/event/send-pact-notts-send-parents-and-carers-together-city/
LOCATION:Carers Federation\, Christopher Cargill House\, 21 - 23 Pelham Road\, Nottingham\, Nottingham\, NG5 1AP\, United Kingdom
CATEGORIES:Events Ran By Other Providers,Parent Carer Events
ATTACH;FMTTYPE=image/jpeg:https://carershub.carersfederation.co.uk/wp-content/uploads/2026/02/Arnold-2026-e1770816617346.jpg
ORGANIZER;CN="SEND Pact Notts CIC":MAILTO:admin@sendpactnotts.org
END:VEVENT
BEGIN:VEVENT
DTSTART;TZID=UTC:20260305T120000
DTEND;TZID=UTC:20260305T130000
DTSTAMP:20260419T170115
CREATED:20260211T122111Z
LAST-MODIFIED:20260211T122111Z
UID:4278-1772712000-1772715600@carershub.carersfederation.co.uk
SUMMARY:Lunch and Learn With YGam
DESCRIPTION:As a parent\, carer or guardian you want to give your children the best start in life. While gaming and digital activities can bring positive opportunities for learning and connection\, they also carry evolving risks that can be hard to spot. \nYGams training helps you understand your child’s digital world and create a safer environment at home. \nYGam are hosting two online training sessions for Parents and Carers to book onto to all them to empowering themselves to be aware of the risks and understanding the children’s digital world\, creating a safer environment at home.
URL:https://carershub.carersfederation.co.uk/event/lunch-and-learn-with-ygam/
LOCATION:On-line
CATEGORIES:Events Ran By Other Providers,Parent Carer Events
ATTACH;FMTTYPE=image/jpeg:https://carershub.carersfederation.co.uk/wp-content/uploads/2026/02/Copy-of-Lunch-and-Learn-A5-flyer-2-e1770812463466.jpg
ORGANIZER;CN="YGam":MAILTO:training@ygam.org
END:VEVENT
BEGIN:VEVENT
DTSTART;TZID=UTC:20260309T100000
DTEND;TZID=UTC:20260309T110000
DTSTAMP:20260419T170115
CREATED:20260225T133049Z
LAST-MODIFIED:20260225T133049Z
UID:4374-1773050400-1773054000@carershub.carersfederation.co.uk
SUMMARY:SEND PaCT Notts - Guest Speaker: Tom Fletcher
DESCRIPTION:SEND PaCT Notts will be welcoming Tom Fletcher – Leisure & Wellbeing Transformation Manager for an online meeting to talk to parents and carers about changes to local leisure and wellbeing services. \nIf you would like to join the event please email admin@sendpactnotts.org 
URL:https://carershub.carersfederation.co.uk/event/send-pact-notts-guest-speaker-tom-fletcher/
LOCATION:On-line
CATEGORIES:Events Ran By Other Providers,Parent Carer Events
ATTACH;FMTTYPE=image/jpeg:https://carershub.carersfederation.co.uk/wp-content/uploads/2026/02/Arnold-2026-e1770816617346.jpg
ORGANIZER;CN="SEND Pact Notts CIC":MAILTO:admin@sendpactnotts.org
END:VEVENT
BEGIN:VEVENT
DTSTART;TZID=UTC:20260310T110000
DTEND;TZID=UTC:20260310T120000
DTSTAMP:20260419T170115
CREATED:20260225T145245Z
LAST-MODIFIED:20260225T145245Z
UID:4384-1773140400-1773144000@carershub.carersfederation.co.uk
SUMMARY:SEND PaCT Notts - Mug and a Moan
DESCRIPTION:SEND PaCT Notts are running a weekly online coffee morning for Parent and Carers. \nBring along a mug of your favourite brew and have a “moan” along with other parents and carers. \nIf you would like to join\, email admin@sendpactnotts.org
URL:https://carershub.carersfederation.co.uk/event/send-pact-notts-mug-and-a-moan-2/
LOCATION:On-line
CATEGORIES:Events Ran By Other Providers,Parent Carer Events
ATTACH;FMTTYPE=image/jpeg:https://carershub.carersfederation.co.uk/wp-content/uploads/2026/02/Mug-and-a-Moan-Tuesdays-e1772030205775.jpg
ORGANIZER;CN="SEND Pact Notts CIC":MAILTO:admin@sendpactnotts.org
END:VEVENT
BEGIN:VEVENT
DTSTART;TZID=UTC:20260311T093000
DTEND;TZID=UTC:20260311T113000
DTSTAMP:20260419T170115
CREATED:20260211T133039Z
LAST-MODIFIED:20260211T133039Z
UID:4288-1773221400-1773228600@carershub.carersfederation.co.uk
SUMMARY:SEND PaCT Notts - SEND Parents and Carers Together (Arnold)
DESCRIPTION:A safe and regular space for parents and carers. \nCome along and join others to share experiences of SEND\, schools\, EHCP’s and life generally. \nThe event will include refreshments and the opportunity to participate in craft activities whilst chatting with other parents and carers.
URL:https://carershub.carersfederation.co.uk/event/send-pact-notts-send-parents-and-carers-together-arnold/
LOCATION:Sprinters\, Sprinters\, 85 High Street\, Arnold\, Nottinghamshire\, NG5 7DQ
CATEGORIES:Events Ran By Other Providers,Parent Carer Events
ATTACH;FMTTYPE=image/jpeg:https://carershub.carersfederation.co.uk/wp-content/uploads/2026/02/Arnold-2026-e1770816617346.jpg
ORGANIZER;CN="SEND Pact Notts CIC":MAILTO:admin@sendpactnotts.org
END:VEVENT
BEGIN:VEVENT
DTSTART;TZID=UTC:20260311T110000
DTEND;TZID=UTC:20260311T120000
DTSTAMP:20260419T170115
CREATED:20260225T132340Z
LAST-MODIFIED:20260225T132340Z
UID:4372-1773226800-1773230400@carershub.carersfederation.co.uk
SUMMARY:SEND PaCT Notts - Guest Speaker: Julia Wilkinson
DESCRIPTION:SEND PaCT Notts will be welcoming Julia Wilkinson – NHS Senior Health Promotion Specialist for an online meeting to talk to parents and carers about how they can become part of a series of involvement groups that will help shape the future of some services. \nIf you would like to join the event please email admin@sendpactnotts.org 
URL:https://carershub.carersfederation.co.uk/event/send-pact-notts-guest-speaker-julia-wilkinson/
LOCATION:On-line
CATEGORIES:Events Ran By Other Providers,Parent Carer Events
ATTACH;FMTTYPE=image/jpeg:https://carershub.carersfederation.co.uk/wp-content/uploads/2026/02/Arnold-2026-e1770816617346.jpg
ORGANIZER;CN="SEND Pact Notts CIC":MAILTO:admin@sendpactnotts.org
END:VEVENT
BEGIN:VEVENT
DTSTART;TZID=UTC:20260317T110000
DTEND;TZID=UTC:20260317T120000
DTSTAMP:20260419T170115
CREATED:20260225T145829Z
LAST-MODIFIED:20260225T145829Z
UID:4386-1773745200-1773748800@carershub.carersfederation.co.uk
SUMMARY:SEND PaCT Notts - Mug and a Moan
DESCRIPTION:SEND PaCT Notts are running a weekly online coffee morning for Parent and Carers. \nBring along a mug of your favourite brew and have a “moan” along with other parents and carers. \nIf you would like to join\, email admin@sendpactnotts.org
URL:https://carershub.carersfederation.co.uk/event/send-pact-notts-mug-and-a-moan-3/
LOCATION:On-line
CATEGORIES:Events Ran By Other Providers,Parent Carer Events
ATTACH;FMTTYPE=image/jpeg:https://carershub.carersfederation.co.uk/wp-content/uploads/2026/02/Mug-and-a-Moan-Tuesdays-e1772030205775.jpg
ORGANIZER;CN="SEND Pact Notts CIC":MAILTO:admin@sendpactnotts.org
END:VEVENT
BEGIN:VEVENT
DTSTART;TZID=UTC:20260324T110000
DTEND;TZID=UTC:20260324T120000
DTSTAMP:20260419T170115
CREATED:20260225T150050Z
LAST-MODIFIED:20260225T150050Z
UID:4388-1774350000-1774353600@carershub.carersfederation.co.uk
SUMMARY:SEND PaCT Notts - Mug and a Moan
DESCRIPTION:SEND PaCT Notts are running a weekly online coffee morning for Parent and Carers. \nBring along a mug of your favourite brew and have a “moan” along with other parents and carers. \nIf you would like to join\, email admin@sendpactnotts.org
URL:https://carershub.carersfederation.co.uk/event/send-pact-notts-mug-and-a-moan-4/
LOCATION:On-line
CATEGORIES:Events Ran By Other Providers,Parent Carer Events
ATTACH;FMTTYPE=image/jpeg:https://carershub.carersfederation.co.uk/wp-content/uploads/2026/02/Mug-and-a-Moan-Tuesdays-e1772030205775.jpg
ORGANIZER;CN="SEND Pact Notts CIC":MAILTO:admin@sendpactnotts.org
END:VEVENT
BEGIN:VEVENT
DTSTART;TZID=UTC:20260329T130000
DTEND;TZID=UTC:20260329T150000
DTSTAMP:20260419T170115
CREATED:20260225T151828Z
LAST-MODIFIED:20260225T151828Z
UID:4392-1774789200-1774796400@carershub.carersfederation.co.uk
SUMMARY:SEND PaCT Notts - Plod with the Squad
DESCRIPTION:Join SEND PaCT Notts as the plod around Arnot Hill Park\, using the nature trails to find their way around the space and following up the walk with a warm drink and some crafting time. \nIf you would like to take part in the walk email admin@sendpactnotts.org or contact them via WhatsApp on 07305969144
URL:https://carershub.carersfederation.co.uk/event/send-pact-notts-plod-with-the-squad/
LOCATION:Arnot Hill Park\, Nottingham Road\, Arnold\, Nottinghamshire\, NG5 6LU
CATEGORIES:Events Ran By Other Providers,Parent Carer Events
ATTACH;FMTTYPE=image/jpeg:https://carershub.carersfederation.co.uk/wp-content/uploads/2026/02/Plod-with-the-Squad-29.03-e1772032599415.jpg
ORGANIZER;CN="SEND Pact Notts CIC":MAILTO:admin@sendpactnotts.org
END:VEVENT
BEGIN:VEVENT
DTSTART;TZID=UTC:20260331T110000
DTEND;TZID=UTC:20260331T120000
DTSTAMP:20260419T170115
CREATED:20260225T150438Z
LAST-MODIFIED:20260225T150438Z
UID:4390-1774954800-1774958400@carershub.carersfederation.co.uk
SUMMARY:SEND PaCT Notts - Mug and a Moan
DESCRIPTION:SEND PaCT Notts are running a weekly online coffee morning for Parent and Carers. \nBring along a mug of your favourite brew and have a “moan” along with other parents and carers. \nIf you would like to join\, email admin@sendpactnotts.org
URL:https://carershub.carersfederation.co.uk/event/send-pact-notts-mug-and-a-moan-5/
LOCATION:On-line
CATEGORIES:Events Ran By Other Providers,Parent Carer Events
ATTACH;FMTTYPE=image/jpeg:https://carershub.carersfederation.co.uk/wp-content/uploads/2026/02/Mug-and-a-Moan-Tuesdays-e1772030205775.jpg
ORGANIZER;CN="SEND Pact Notts CIC":MAILTO:admin@sendpactnotts.org
END:VEVENT
BEGIN:VEVENT
DTSTART;TZID=UTC:20260331T130000
DTEND;TZID=UTC:20260331T140000
DTSTAMP:20260419T170115
CREATED:20260211T122343Z
LAST-MODIFIED:20260211T122343Z
UID:4282-1774962000-1774965600@carershub.carersfederation.co.uk
SUMMARY:Lunch and Learn With YGam
DESCRIPTION:As a parent\, carer or guardian you want to give your children the best start in life. While gaming and digital activities can bring positive opportunities for learning and connection\, they also carry evolving risks that can be hard to spot. \nYGam’s training helps you understand your child’s digital world and create a safer environment at home. \nYGam are hosting two online training sessions for Parents and Carers to book onto to all them to empowering themselves to be aware of the risks and understanding the children’s digital world\, creating a safer environment at home.
URL:https://carershub.carersfederation.co.uk/event/lunch-and-learn-with-ygam-2/
LOCATION:On-line
CATEGORIES:Events Ran By Other Providers,Parent Carer Events
ATTACH;FMTTYPE=image/jpeg:https://carershub.carersfederation.co.uk/wp-content/uploads/2026/02/Copy-of-Lunch-and-Learn-A5-flyer-2-e1770812463466.jpg
ORGANIZER;CN="YGam":MAILTO:training@ygam.org
END:VEVENT
END:VCALENDAR