BEGIN:VCALENDAR
VERSION:2.0
PRODID:-//Nottingham / Nottinghamshire Carers Hub Service - ECPv6.15.20//NONSGML v1.0//EN
CALSCALE:GREGORIAN
METHOD:PUBLISH
X-WR-CALNAME:Nottingham / Nottinghamshire Carers Hub Service
X-ORIGINAL-URL:https://carershub.carersfederation.co.uk
X-WR-CALDESC:Events for Nottingham / Nottinghamshire Carers Hub Service
REFRESH-INTERVAL;VALUE=DURATION:PT1H
X-Robots-Tag:noindex
X-PUBLISHED-TTL:PT1H
BEGIN:VTIMEZONE
TZID:UTC
BEGIN:STANDARD
TZOFFSETFROM:+0000
TZOFFSETTO:+0000
TZNAME:UTC
DTSTART:20250101T000000
END:STANDARD
END:VTIMEZONE
BEGIN:VEVENT
DTSTART;TZID=UTC:20260420T130000
DTEND;TZID=UTC:20260420T150000
DTSTAMP:20260420T020713
CREATED:20260407T134057Z
LAST-MODIFIED:20260407T134057Z
UID:4557-1776690000-1776697200@carershub.carersfederation.co.uk
SUMMARY:SEND PaCT Notts - Guest Speaker: Tom Fletcher
DESCRIPTION:SEND PaCT Notts will be welcoming Tom Fletcher – Leisure & Wellbeing Transformation Manager for an online meeting to talk to parents and carers about changes to local leisure and wellbeing services. \nIf you would like to join the event please email admin@sendpactnotts.org 
URL:https://carershub.carersfederation.co.uk/event/send-pact-notts-guest-speaker-tom-fletcher-2/
LOCATION:On-line
CATEGORIES:Events Ran By Other Providers,Parent Carer Events
ATTACH;FMTTYPE=image/jpeg:https://carershub.carersfederation.co.uk/wp-content/uploads/2026/02/Arnold-2026-e1770816617346.jpg
ORGANIZER;CN="SEND Pact Notts CIC":MAILTO:admin@sendpactnotts.org
END:VEVENT
BEGIN:VEVENT
DTSTART;TZID=UTC:20260420T143000
DTEND;TZID=UTC:20260420T163000
DTSTAMP:20260420T020713
CREATED:20260407T100742Z
LAST-MODIFIED:20260407T100742Z
UID:4533-1776695400-1776702600@carershub.carersfederation.co.uk
SUMMARY:Carers in Hucknall - Holgate Primary Community Fayre
DESCRIPTION:Carers in Hucknall will be attending the Holgate Primary School Community Fayre\, this is alongside their bi-monthly support group. \nCarers in Hucknall aims to provide support for everyone\, you do not need to be a carer of the person being cared for to attend their meetings.
URL:https://carershub.carersfederation.co.uk/event/carers-in-hucknall-holgate-primary-community-fayre/
LOCATION:Holgate Primary & Nursery School\, High Leys Road\, Hucknall\, Nottinghamshire\, NG15 6EZ
CATEGORIES:Events Ran By Other Providers
ATTACH;FMTTYPE=image/png:https://carershub.carersfederation.co.uk/wp-content/uploads/2026/04/Holgate-Primary-Community-Fayre-20.04.2026.png
ORGANIZER;CN="Carers in Hucknall":MAILTO:carersinhucknall@yahoo.co.uk
END:VEVENT
END:VCALENDAR